BEGIN:VCALENDAR
VERSION:2.0
PRODID:-//Swing Folies - ECPv4.7.3//NONSGML v1.0//EN
CALSCALE:GREGORIAN
METHOD:PUBLISH
X-WR-CALNAME:Swing Folies
X-ORIGINAL-URL:http://www.swingfolies.com
X-WR-CALDESC:Évènements pour Swing Folies
BEGIN:VEVENT
DTSTART;TZID=UTC+1:20170929T220000
DTEND;TZID=UTC+1:20170929T220000
DTSTAMP:20260423T004530
CREATED:20170809T124730Z
LAST-MODIFIED:20170809T133135Z
UID:9002-1506722400-1506722400@www.swingfolies.com
SUMMARY:Soirée surprise
DESCRIPTION:Venez à notre soirée de rentrée dès 22h pour une soirée SURPRISE\nSpécialement concoctée pour rassembler tous les élèves de l’école pour une soirée FESTIVE \n
URL:http://www.swingfolies.com/event/venez-notre-soiree-rentree-des-22h-pour-une-soiree-surprise/
LOCATION:Ecole de Danse Swing Folies\, 8\, Bis Route des Creuses\, Annecy\, Haute-Savoie\, 74960\, Francia
END:VEVENT
END:VCALENDAR