BEGIN:VCALENDAR
VERSION:2.0
PRODID:-//Swing Folies - ECPv4.7.3//NONSGML v1.0//EN
CALSCALE:GREGORIAN
METHOD:PUBLISH
X-WR-CALNAME:Swing Folies
X-ORIGINAL-URL:http://www.swingfolies.com
X-WR-CALDESC:Évènements pour Swing Folies
BEGIN:VEVENT
DTSTART;VALUE=DATE:20190712
DTEND;VALUE=DATE:20190713
DTSTAMP:20260423T022746
CREATED:20190704T125539Z
LAST-MODIFIED:20190709T162053Z
UID:9649-1562889600-1562975999@www.swingfolies.com
SUMMARY:Vendredi 12 Juillet Soirée sur le Pâquier
DESCRIPTION: \n
URL:http://www.swingfolies.com/event/vendredi-12-juillet-soiree-sur-le-paquier/
LOCATION:Le Pâquier Annecy\, Le Pâquier\, annecy
ATTACH;FMTTYPE=image/jpeg:http://www.swingfolies.com/wp-content/uploads/2019/07/Copy-of-Copy-of-Copy-of-Summer-camp-Made-with-PosterMyWall-3.jpg
END:VEVENT
END:VCALENDAR