BEGIN:VCALENDAR
VERSION:2.0
PRODID:-//Swing Folies - ECPv4.7.3//NONSGML v1.0//EN
CALSCALE:GREGORIAN
METHOD:PUBLISH
X-WR-CALNAME:Swing Folies
X-ORIGINAL-URL:http://www.swingfolies.com
X-WR-CALDESC:Évènements pour Swing Folies
BEGIN:VEVENT
DTSTART;TZID=UTC+1:20220618T170000
DTEND;TZID=UTC+1:20220618T170000
DTSTAMP:20260422T230512
CREATED:20211017T162319Z
LAST-MODIFIED:20220616T094355Z
UID:10915-1655571600-1655571600@www.swingfolies.com
SUMMARY:STAGE KIZOMBA
DESCRIPTION:\n#cmsmasters_button_69e9542866778 { \n	text-align:center; \n} \n\n#cmsmasters_button_69e9542866778 .cmsmasters_button:before { \n	margin-right:.5em; \n	margin-left:0; \n	vertical-align:baseline; \n} \n\n#cmsmasters_button_69e9542866778 .cmsmasters_button { \n	font-weight:normal; \n	font-style:normal; \n	border-style:solid; \n} \n#cmsmasters_button_69e9542866778 .cmsmasters_button:hover { \n} \n\n#cmsmasters_button_69e9542866804 { \n	text-align:center; \n} \n\n#cmsmasters_button_69e9542866804 .cmsmasters_button:before { \n	margin-right:.5em; \n	margin-left:0; \n	vertical-align:baseline; \n} \n\n#cmsmasters_button_69e9542866804 .cmsmasters_button { \n	font-weight:normal; \n	font-style:normal; \n	border-style:solid; \n} \n#cmsmasters_button_69e9542866804 .cmsmasters_button:hover { \n} \n  \n\nINSCRIPTIONS ET RENSEIGNEMENTS :\n\n \n\nVOIR PROGRAMME / M’INSCRIRE\n \n
URL:http://www.swingfolies.com/event/tous-les-3e-samedi-du-mois-stage-et-soiree-8/
LOCATION:Ecole de Danse Swing Folies\, 8\, Bis Route des Creuses\, Annecy\, Haute-Savoie\, 74960\, Francia
CATEGORIES:Festival
ATTACH;FMTTYPE=image/jpeg:http://www.swingfolies.com/wp-content/uploads/2021/10/Copy-of-Copy-of-Copy-of-Copy-of-Copy-of-Copie-de-Copy-of-Copy-of-Copy-of-Copy-of-Copy-of-Copie-de-RE-Fait-avec-PosterMyWall.jpg
ORGANIZER;CN="Swing%20Folies":MAILTO:info@swingfolies.com
END:VEVENT
END:VCALENDAR