BEGIN:VCALENDAR
VERSION:2.0
PRODID:-//Swing Folies - ECPv4.7.3//NONSGML v1.0//EN
CALSCALE:GREGORIAN
METHOD:PUBLISH
X-WR-CALNAME:Swing Folies
X-ORIGINAL-URL:http://www.swingfolies.com
X-WR-CALDESC:Évènements pour Swing Folies
BEGIN:VEVENT
DTSTART;VALUE=DATE:20230121
DTEND;VALUE=DATE:20230122
DTSTAMP:20260422T195432
CREATED:20221209T122049Z
LAST-MODIFIED:20221209T122111Z
UID:11311-1674259200-1674345599@www.swingfolies.com
SUMMARY:STAGE WEST COAST SWING ET ROCK 80'
DESCRIPTION:\n#cmsmasters_button_69e92778955f2 { \n	text-align:center; \n} \n\n#cmsmasters_button_69e92778955f2 .cmsmasters_button:before { \n	margin-right:.5em; \n	margin-left:0; \n	vertical-align:baseline; \n} \n\n#cmsmasters_button_69e92778955f2 .cmsmasters_button { \n	font-weight:normal; \n	font-style:normal; \n	border-style:solid; \n} \n#cmsmasters_button_69e92778955f2 .cmsmasters_button:hover { \n} \n\nPOUR VOUS INSCRIRE\n \n
URL:http://www.swingfolies.com/event/stage-west-coast-swing-et-rock-80/
LOCATION:Ecole de Danse Swing Folies\, 8\, Bis Route des Creuses\, Annecy\, Haute-Savoie\, 74960\, Francia
CATEGORIES:Festival
ATTACH;FMTTYPE=image/jpeg:http://www.swingfolies.com/wp-content/uploads/2022/12/Clean-Circle-White-Transparent-Logo-10-Made-with-PosterMyWall-10.jpg
END:VEVENT
END:VCALENDAR