BEGIN:VCALENDAR
VERSION:2.0
PRODID:-//Swing Folies - ECPv4.7.3//NONSGML v1.0//EN
CALSCALE:GREGORIAN
METHOD:PUBLISH
X-WR-CALNAME:Swing Folies
X-ORIGINAL-URL:http://www.swingfolies.com
X-WR-CALDESC:Évènements pour Swing Folies
BEGIN:VEVENT
DTSTART;VALUE=DATE:20190518
DTEND;VALUE=DATE:20190519
DTSTAMP:20260423T015724
CREATED:20190409T103548Z
LAST-MODIFIED:20190515T154854Z
UID:9497-1558137600-1558223999@www.swingfolies.com
SUMMARY:Stage West Coast Swing avec Maxime et Torri Zzoui
DESCRIPTION:2019 18 mai(2) PLANNING STAGE WCS \nPour télécharger la fiche d’inscription \n
URL:http://www.swingfolies.com/event/stage-west-coast-swing-avec-maxime-et-torri-zzoui/
LOCATION:Ecole de Danse Swing Folies\, 8\, Bis Route des Creuses\, Annecy\, Haute-Savoie\, 74960\, Francia
CATEGORIES:Festival
ATTACH;FMTTYPE=image/jpeg:http://www.swingfolies.com/wp-content/uploads/2019/03/Copy-of-Fashion-Made-with-PosterMyWall.jpg
ORGANIZER;CN="Swing%20Folies":MAILTO:info@swingfolies.com
END:VEVENT
END:VCALENDAR