BEGIN:VCALENDAR
VERSION:2.0
PRODID:-//Swing Folies - ECPv4.7.3//NONSGML v1.0//EN
CALSCALE:GREGORIAN
METHOD:PUBLISH
X-WR-CALNAME:Swing Folies
X-ORIGINAL-URL:http://www.swingfolies.com
X-WR-CALDESC:Évènements pour Swing Folies
BEGIN:VEVENT
DTSTART;TZID=UTC+1:20240120T133000
DTEND;TZID=UTC+1:20240121T010000
DTSTAMP:20260422T192741
CREATED:20231220T103923Z
LAST-MODIFIED:20240116T124538Z
UID:11684-1705757400-1705798800@www.swingfolies.com
SUMMARY:Stage et soirée: West and Rock Arnaud Pergat et Maelle
DESCRIPTION:\n#cmsmasters_button_69e9212dcb44b { \n	text-align:center; \n} \n\n#cmsmasters_button_69e9212dcb44b .cmsmasters_button:before { \n	margin-right:.5em; \n	margin-left:0; \n	vertical-align:baseline; \n} \n\n#cmsmasters_button_69e9212dcb44b .cmsmasters_button { \n	font-weight:normal; \n	font-style:normal; \n	border-style:solid; \n} \n#cmsmasters_button_69e9212dcb44b .cmsmasters_button:hover { \n} \n\n#cmsmasters_button_69e9212dcb4bf { \n	text-align:center; \n} \n\n#cmsmasters_button_69e9212dcb4bf .cmsmasters_button:before { \n	margin-right:.5em; \n	margin-left:0; \n	vertical-align:baseline; \n} \n\n#cmsmasters_button_69e9212dcb4bf .cmsmasters_button { \n	font-weight:normal; \n	font-style:normal; \n	border-style:solid; \n} \n#cmsmasters_button_69e9212dcb4bf .cmsmasters_button:hover { \n} \n\ncliquer pour m’inscrire\n\n \ncliquer pour m’inscrire\n \n \nStage West Coast Swing et Rock – Soirée avec Show !!\n\n\nStages West Coast Swing avec nos profs invités\nArnaud PERGA et Maëlle JACOULET.\nPlusieurs fois titrés à l’US Open et enseignant dans une école de renommée sur Lyon\, ils sont pédagogues\, accessibles et généreux !!!\nMarie et Martial\, profs résidents du Swing Folie’s\, seront vos intervenants dans les niveaux:\nDébutants en West Coast Swing et Rock\,\nInitié/Inter/Av en Rock !\n\nVous souhaitez faire plusieurs stages\, une réduction serra être appliquée au moment du paiement !!\n\nAttention : Si votre inscription est totale\, vous recevrez votre ticket quasi instantanément !! Si vous n’avez aucune confirmation\, alors votre inscription comme votre paiement ne sont pas pris en compte ! Pensez à surveiller. Merci\n\nLe Billet d’Entrée pour la Soirée SANS Stages sera vendu sur place le soir même au prix de 10 euros/pers.\nSi vous êtes Stagiaires Débutants\, Validez l’achat de votre soirée (si vous êtes intéressez) à tarif préférentiel en même temps que vos Pass !! Merci\n\nAttention: Par souci d’équilibre Danseurs/Danseuses\, l’organisateur se réserve le droit d’annuler votre inscription et de vous la rembourser. Privilégiez votre inscription « Couple » (légitime ou non).\nBillet Non Annulable – Non Remboursable.\n\n
URL:http://www.swingfolies.com/event/stage-et-soiree-west-and-rock-arnaud-pergat-et-maelle/
LOCATION:Ecole de Danse Swing Folies\, 8\, Bis Route des Creuses\, Annecy\, Haute-Savoie\, 74960\, Francia
CATEGORIES:Festival
ATTACH;FMTTYPE=image/jpeg:http://www.swingfolies.com/wp-content/uploads/2023/12/Affiche_arnaud_2024.jpg
END:VEVENT
END:VCALENDAR