BEGIN:VCALENDAR
VERSION:2.0
PRODID:-//Swing Folies - ECPv4.7.3//NONSGML v1.0//EN
CALSCALE:GREGORIAN
METHOD:PUBLISH
X-WR-CALNAME:Swing Folies
X-ORIGINAL-URL:http://www.swingfolies.com
X-WR-CALDESC:Évènements pour Swing Folies
BEGIN:VEVENT
DTSTART;VALUE=DATE:20190406
DTEND;VALUE=DATE:20190407
DTSTAMP:20260423T015401
CREATED:20190325T105808Z
LAST-MODIFIED:20190325T132007Z
UID:9474-1554508800-1554595199@www.swingfolies.com
SUMMARY:STAGE DE LINDY HOP
DESCRIPTION:Téléchargez votre fiche d’inscription \nFORMAT SITE Inscriptions06042019 LINDY \nPour plus d’informations concernant le stage cliquez ci-dessous pour le lien direct au site d’inscription : \nSITE D’INSCRIPTION \n \n  \n
URL:http://www.swingfolies.com/event/stage-de-lindy-hop/
LOCATION:Ecole de Danse Swing Folies\, 8\, Bis Route des Creuses\, Annecy\, Haute-Savoie\, 74960\, Francia
ATTACH;FMTTYPE=image/jpeg:http://www.swingfolies.com/wp-content/uploads/2019/02/2019Copy-of-Copy-of-Copy-of-Wood-Event-Flyer-Template-Made-with-PosterMyWall-1.jpg
ORGANIZER;CN="Swing%20Folies":MAILTO:info@swingfolies.com
END:VEVENT
END:VCALENDAR