BEGIN:VCALENDAR
VERSION:2.0
PRODID:-//Swing Folies - ECPv4.7.3//NONSGML v1.0//EN
CALSCALE:GREGORIAN
METHOD:PUBLISH
X-WR-CALNAME:Swing Folies
X-ORIGINAL-URL:http://www.swingfolies.com
X-WR-CALDESC:Évènements pour Swing Folies
BEGIN:VEVENT
DTSTART;TZID=UTC+1:20190704T080000
DTEND;TZID=UTC+1:20190704T170000
DTSTAMP:20260423T022528
CREATED:20190704T125401Z
LAST-MODIFIED:20190704T125415Z
UID:9646-1562227200-1562259600@www.swingfolies.com
SUMMARY:Soirée Vendredi 5 Juillet
DESCRIPTION:1 salle Rock 1 salle Salsa Bachata \n
URL:http://www.swingfolies.com/event/soiree-vendredi-5-juillet/
ATTACH;FMTTYPE=image/jpeg:http://www.swingfolies.com/wp-content/uploads/2019/07/Copy-of-Copy-of-Copy-of-Copy-of-Copy-of-Latin-Night-Salsa-Party-Event-Latin-Dance-Made-with-PosterMyWall-2.jpg
END:VEVENT
END:VCALENDAR