BEGIN:VCALENDAR
VERSION:2.0
PRODID:-//Swing Folies - ECPv4.7.3//NONSGML v1.0//EN
CALSCALE:GREGORIAN
METHOD:PUBLISH
X-WR-CALNAME:Swing Folies
X-ORIGINAL-URL:http://www.swingfolies.com
X-WR-CALDESC:Évènements pour Swing Folies
BEGIN:VEVENT
DTSTART;TZID=UTC+1:20200313T080000
DTEND;TZID=UTC+1:20200313T213000
DTSTAMP:20260422T231246
CREATED:20200313T152626Z
LAST-MODIFIED:20200313T155625Z
UID:10089-1584086400-1584135000@www.swingfolies.com
SUMMARY:SOIREE SBK + WCS
DESCRIPTION:\n1 salle Bachata Salsa\n1 salle West Coast Swing\n1 Cours 1/2 h Kizomba 1/2h Bachata ouvert à tous5€ cours surprise\, entrée et une boisson \n\n\n\n\n\nDanse\nSalsa (danse)\nKizomba\n\n\n\n+1 \n \n
URL:http://www.swingfolies.com/event/soiree-sbk-wcs/
LOCATION:Ecole de Danse Swing Folies\, 8\, Bis Route des Creuses\, Annecy\, Haute-Savoie\, 74960\, Francia
ATTACH;FMTTYPE=image/jpeg:http://www.swingfolies.com/wp-content/uploads/2020/03/facebookadsoirée13032020.jpg
ORGANIZER;CN="Swing%20Folies":MAILTO:info@swingfolies.com
END:VEVENT
END:VCALENDAR