BEGIN:VCALENDAR
VERSION:2.0
PRODID:-//Swing Folies - ECPv4.7.3//NONSGML v1.0//EN
CALSCALE:GREGORIAN
METHOD:PUBLISH
X-WR-CALNAME:Swing Folies
X-ORIGINAL-URL:http://www.swingfolies.com
X-WR-CALDESC:Évènements pour Swing Folies
BEGIN:VEVENT
DTSTART;TZID=UTC+1:20181221T211500
DTEND;TZID=UTC+1:20181222T010000
DTSTAMP:20260423T040504
CREATED:20181120T153557Z
LAST-MODIFIED:20181120T154346Z
UID:9402-1545426900-1545440400@www.swingfolies.com
SUMMARY:Soirée Salsa Bachata Kizomba
DESCRIPTION:Soirée SBK Salsa Bachata Kizomba – Initiation Kizomba offerte avec votre entrée à 21h15 puis soirée 3 Salles 3 Ambiances 3 DJ \n
URL:http://www.swingfolies.com/event/soiree-salsa-bachata-kizomba/
LOCATION:Ecole de Danse Swing Folies\, 8\, Bis Route des Creuses\, Annecy\, Haute-Savoie\, 74960\, Francia
ATTACH;FMTTYPE=image/jpeg:http://www.swingfolies.com/wp-content/uploads/2018/11/Copy-of-Copy-of-Latin-night-Made-with-PosterMyWall.jpg
ORGANIZER;CN="Swing%20Folies":MAILTO:info@swingfolies.com
END:VEVENT
END:VCALENDAR