BEGIN:VCALENDAR
VERSION:2.0
PRODID:-//Swing Folies - ECPv4.7.3//NONSGML v1.0//EN
CALSCALE:GREGORIAN
METHOD:PUBLISH
X-WR-CALNAME:Swing Folies
X-ORIGINAL-URL:http://www.swingfolies.com
X-WR-CALDESC:Évènements pour Swing Folies
BEGIN:VEVENT
DTSTART;TZID=UTC+1:20191122T210000
DTEND;TZID=UTC+1:20191123T210000
DTSTAMP:20260423T005450
CREATED:20191121T155325Z
LAST-MODIFIED:20191121T155326Z
UID:9991-1574456400-1574542800@www.swingfolies.com
SUMMARY:Soirée Rock n Swing
DESCRIPTION: \n
URL:http://www.swingfolies.com/event/soiree-rock-n-swing-2/
LOCATION:Ecole de Danse Swing Folies\, 8\, Bis Route des Creuses\, Annecy\, Haute-Savoie\, 74960\, Francia
ATTACH;FMTTYPE=image/jpeg:http://www.swingfolies.com/wp-content/uploads/2019/10/Copy-of-Retro-Made-with-PosterMyWall-2.jpg
END:VEVENT
END:VCALENDAR