BEGIN:VCALENDAR
VERSION:2.0
PRODID:-//Swing Folies - ECPv4.7.3//NONSGML v1.0//EN
CALSCALE:GREGORIAN
METHOD:PUBLISH
X-WR-CALNAME:Swing Folies
X-ORIGINAL-URL:http://www.swingfolies.com
X-WR-CALDESC:Évènements pour Swing Folies
BEGIN:VEVENT
DTSTART;TZID=UTC+1:20200613T160000
DTEND;TZID=UTC+1:20200614T010000
DTSTAMP:20260422T224917
CREATED:20200219T203320Z
LAST-MODIFIED:20200219T203323Z
UID:10056-1592064000-1592096400@www.swingfolies.com
SUMMARY:SOIREE DE FIN D'ANNEE ET SPECTACLE LE SAMEDI 13 JUIN
DESCRIPTION: \nA noter dans vos agendas\, notre soirée de clôture de la saison aura lieu le Samedi 13 Juin à l’Epace Besson – Cap Périaz à Seynod ! \n
URL:http://www.swingfolies.com/event/soiree-de-fin-dannee-et-spectacle-le-samedi-13-juin/
LOCATION:Espace Besson CAP PERIAZ SEYNOD
ORGANIZER;CN="Swing%20Folies":MAILTO:info@swingfolies.com
END:VEVENT
END:VCALENDAR