BEGIN:VCALENDAR
VERSION:2.0
PRODID:-//Swing Folies - ECPv4.7.3//NONSGML v1.0//EN
CALSCALE:GREGORIAN
METHOD:PUBLISH
X-WR-CALNAME:Swing Folies
X-ORIGINAL-URL:http://www.swingfolies.com
X-WR-CALDESC:Évènements pour Swing Folies
BEGIN:VEVENT
DTSTART;TZID=UTC+1:20170831T190000
DTEND;TZID=UTC+1:20170831T220000
DTSTAMP:20260423T003454
CREATED:20170809T132809Z
LAST-MODIFIED:20170809T143545Z
UID:9014-1504206000-1504216800@www.swingfolies.com
SUMMARY:Ptit Bal Perdu 100% West Coast Swing
DESCRIPTION:Venez révisez la Flashmob à l’occasion de notre ptit bal perdu 100% WEST COAST SWING. Dès 19h répétition puis on danse jusqu’à 22h dans les Jardins de l’Europe à Annecy. Pensez au pic-nic et à l’apéro nous on s’occupe de la sono.\nPour rappel la Flashmob West Coast Swing aura lieu le Samedi 2 septembre de 16h à 17h devant la Cathédrale Notre Dame à Annecy. \n
URL:http://www.swingfolies.com/event/ptit-bal-perdu-100-west-coast-swing/
LOCATION:les Jardins de l’Europe à Annecy
ATTACH;FMTTYPE=image/png:http://www.swingfolies.com/wp-content/uploads/2017/08/PTIT-BAL-ROCK.png
ORGANIZER;CN="Swing%20Folies":MAILTO:info@swingfolies.com
END:VEVENT
END:VCALENDAR