BEGIN:VCALENDAR
VERSION:2.0
PRODID:-//Swing Folies - ECPv4.7.3//NONSGML v1.0//EN
CALSCALE:GREGORIAN
METHOD:PUBLISH
X-WR-CALNAME:Swing Folies
X-ORIGINAL-URL:http://www.swingfolies.com
X-WR-CALDESC:Évènements pour Swing Folies
BEGIN:VEVENT
DTSTART;TZID=UTC+1:20220905T080000
DTEND;TZID=UTC+1:20220909T220000
DTSTAMP:20260422T195658
CREATED:20220726T143734Z
LAST-MODIFIED:20220726T144259Z
UID:11173-1662364800-1662760800@www.swingfolies.com
SUMMARY:PORTES OUVERTES SEANCES D'ESSAI DU 5 AU 9 SEPTEMBRE 2022
DESCRIPTION:\n#cmsmasters_button_69e9280a30097 { \n	text-align:center; \n} \n\n#cmsmasters_button_69e9280a30097 .cmsmasters_button:before { \n	margin-right:.5em; \n	margin-left:0; \n	vertical-align:baseline; \n} \n\n#cmsmasters_button_69e9280a30097 .cmsmasters_button { \n	font-weight:normal; \n	font-style:normal; \n	border-style:solid; \n} \n#cmsmasters_button_69e9280a30097 .cmsmasters_button:hover { \n} \nPORTES OUVERTES \nSEANCES D’ESSAI DU 5 AU 9 SEPTEMBRE 2022 \nROCK  SALSA  BACHATA  LINDY HOP  BOOGIE WOOGIE  DANSES DE SALON… \nHIP HOP  STREET DANCE  GIRLY  URBAN STYLE  CLAQUETTES  SOLO JAZZ CHARLESTON  SOLO SALSA BACHATA… \nPour vous inscrire à nos séances d’essai cliquez sur le lien ci-dessous et vous venez le jour et à l’heure de votre cours 1/4 avant le démarrage\, selon le planning ci-dessous et la semaine du 5 au 9 septembre 2022 \n\nVOUS INSCRIRE A NOS SEANCES D’ESSAI \n\n  \n
URL:http://www.swingfolies.com/event/portes-ouvertes-seances-dessai-du-5-au-9-septembre-2022/
LOCATION:Ecole de Danse Swing Folies\, 8\, Bis Route des Creuses\, Annecy\, Haute-Savoie\, 74960\, Francia
CATEGORIES:Festival
ATTACH;FMTTYPE=image/jpeg:http://www.swingfolies.com/wp-content/uploads/2022/07/Follow-Us-on-Social-Media-Flyer-4-Fait-avec-PosterMyWall-1.jpg
END:VEVENT
END:VCALENDAR