BEGIN:VCALENDAR
VERSION:2.0
PRODID:-//Swing Folies - ECPv4.7.3//NONSGML v1.0//EN
CALSCALE:GREGORIAN
METHOD:PUBLISH
X-WR-CALNAME:Swing Folies
X-ORIGINAL-URL:http://www.swingfolies.com
X-WR-CALDESC:Évènements pour Swing Folies
BEGIN:VEVENT
DTSTART;VALUE=DATE:20260110
DTEND;VALUE=DATE:20260111
DTSTAMP:20260422T180906
CREATED:20251201T213905Z
LAST-MODIFIED:20251201T214027Z
UID:12031-1768003200-1768089599@www.swingfolies.com
SUMMARY:OLIVIER ET VIRGINIE MASSART STAGE DE WEST COAST SWING
DESCRIPTION:\n#cmsmasters_button_69e90ec2e7703 { \n	text-align:center; \n} \n\n#cmsmasters_button_69e90ec2e7703 .cmsmasters_button:before { \n	margin-right:.5em; \n	margin-left:0; \n	vertical-align:baseline; \n} \n\n#cmsmasters_button_69e90ec2e7703 .cmsmasters_button { \n	font-weight:normal; \n	font-style:normal; \n	border-style:solid; \n} \n#cmsmasters_button_69e90ec2e7703 .cmsmasters_button:hover { \n} \n\n#cmsmasters_button_69e90ec2e777a { \n	text-align:center; \n} \n\n#cmsmasters_button_69e90ec2e777a .cmsmasters_button:before { \n	margin-right:.5em; \n	margin-left:0; \n	vertical-align:baseline; \n} \n\n#cmsmasters_button_69e90ec2e777a .cmsmasters_button { \n	font-weight:normal; \n	font-style:normal; \n	border-style:solid; \n} \n#cmsmasters_button_69e90ec2e777a .cmsmasters_button:hover { \n} \nVOUS SOUHAITES VOUS INSCRIRE A CET EVENEMENT : \n\nM’INSCRIRE A L’EVENEMENT SAMEDI 10 JANVIER 2026\n \n  \n \nVOUS SOUHAITES VOUS INSCRIRE A CET EVENEMENT : \n\nM’INSCRIRE A L’EVENEMENT SAMEDI 10 JANVIER 2026\n \n  \n
URL:http://www.swingfolies.com/event/olivier-et-virginie-massart-stage-de-west-coast-swing/
CATEGORIES:Festival
ATTACH;FMTTYPE=image/jpeg:http://www.swingfolies.com/wp-content/uploads/2025/12/Copie-de-Copie-de-Copie-de-Insta-westie-camp-annecy-2024-Publication-Facebook.jpg
END:VEVENT
END:VCALENDAR