BEGIN:VCALENDAR
VERSION:2.0
PRODID:-//Swing Folies - ECPv4.7.3//NONSGML v1.0//EN
CALSCALE:GREGORIAN
METHOD:PUBLISH
X-WR-CALNAME:Swing Folies
X-ORIGINAL-URL:http://www.swingfolies.com
X-WR-CALDESC:Évènements pour Swing Folies
BEGIN:VEVENT
DTSTART;TZID=UTC+1:20240322T203000
DTEND;TZID=UTC+1:20240323T203000
DTSTAMP:20260422T193602
CREATED:20231222T110325Z
LAST-MODIFIED:20231222T110327Z
UID:11707-1711139400-1711225800@www.swingfolies.com
SUMMARY:Les vendredis du swing - Rock\, Lindy Hop\, West Coast Swing
DESCRIPTION: \nViens mettre en pratique tes danses préférées tous les 4èmes vendredis de chaque mois – 5€ : entrée + 1 boisson comprise :\nCe vendredi 22 décembre 2023 : Soirée de Noël\n3 salles 3 ambiances\n20h30 à 22h : 1 salle 100% Lindy Hop\n22h à 1h : 3 salles 3 ambiances\n1 salle West Coast Swing\n1 salle Rock and Swing\n1 salle Salsa Bachata\nDress code si possible en Rouge et Blanc – Déguisements sympas si vous aimez nous on adore\, mais non obligatoire !\nPlanning des soirées régulières:\nTous les 4è vendredis de chaque mois : Rock and Swing (Rock\, Lindy Hop\, West Coast Swing)\n22/09/23 – 27/10/23 – 24/11/23 – 22/12/23 – 26/01/24 – 23/02/24 – 22/03/24 – 26/04/24 – 24/05/23 – 28/06/24\nET…\nTous les 2è vendredis de chaque mois : Salsa Bachata et West Coast Swing\n13/10/23 – 10/11/23 – 08/12/23 – 12/01/24 – 09/02/24 – 08/03/24 – 12/04/24 – 10/05/24 – 14/06/24\nEcole de danse Swing Folie’s\n8 bis route des Creuses\nPA Les Verts Prés\n74960 CRAN GEVRIER\n
URL:http://www.swingfolies.com/event/les-vendredis-du-swing-rock-lindy-hop-west-coast-swing/
LOCATION:Ecole de Danse Swing Folies\, 8\, Bis Route des Creuses\, Annecy\, Haute-Savoie\, 74960\, Francia
CATEGORIES:Festival
ATTACH;FMTTYPE=image/png:http://www.swingfolies.com/wp-content/uploads/2023/10/Vendredi_rock_and_swing.png
END:VEVENT
END:VCALENDAR